BEGIN:VCALENDAR
VERSION:2.0
PRODID:-//Artly World Nonprofit - ECPv6.15.17.1//NONSGML v1.0//EN
CALSCALE:GREGORIAN
METHOD:PUBLISH
X-WR-CALNAME:Artly World Nonprofit
X-ORIGINAL-URL:https://artlyworld.org
X-WR-CALDESC:Events for Artly World Nonprofit
REFRESH-INTERVAL;VALUE=DURATION:PT1H
X-Robots-Tag:noindex
X-PUBLISHED-TTL:PT1H
BEGIN:VTIMEZONE
TZID:America/Chicago
BEGIN:DAYLIGHT
TZOFFSETFROM:-0600
TZOFFSETTO:-0500
TZNAME:CDT
DTSTART:20180311T080000
END:DAYLIGHT
BEGIN:STANDARD
TZOFFSETFROM:-0500
TZOFFSETTO:-0600
TZNAME:CST
DTSTART:20181104T070000
END:STANDARD
BEGIN:DAYLIGHT
TZOFFSETFROM:-0600
TZOFFSETTO:-0500
TZNAME:CDT
DTSTART:20190310T080000
END:DAYLIGHT
BEGIN:STANDARD
TZOFFSETFROM:-0500
TZOFFSETTO:-0600
TZNAME:CST
DTSTART:20191103T070000
END:STANDARD
BEGIN:DAYLIGHT
TZOFFSETFROM:-0600
TZOFFSETTO:-0500
TZNAME:CDT
DTSTART:20200308T080000
END:DAYLIGHT
BEGIN:STANDARD
TZOFFSETFROM:-0500
TZOFFSETTO:-0600
TZNAME:CST
DTSTART:20201101T070000
END:STANDARD
BEGIN:DAYLIGHT
TZOFFSETFROM:-0600
TZOFFSETTO:-0500
TZNAME:CDT
DTSTART:20210314T080000
END:DAYLIGHT
BEGIN:STANDARD
TZOFFSETFROM:-0500
TZOFFSETTO:-0600
TZNAME:CST
DTSTART:20211107T070000
END:STANDARD
END:VTIMEZONE
BEGIN:VTIMEZONE
TZID:UTC
BEGIN:STANDARD
TZOFFSETFROM:+0000
TZOFFSETTO:+0000
TZNAME:UTC
DTSTART:20170101T000000
END:STANDARD
END:VTIMEZONE
BEGIN:VEVENT
DTSTART;TZID=America/Chicago:20200619T160000
DTEND;TZID=America/Chicago:20200619T170000
DTSTAMP:20260422T001302
CREATED:20200104T194729Z
LAST-MODIFIED:20200104T194729Z
UID:2149-1592582400-1592586000@artlyworld.org
SUMMARY:Finger Puppets Storytime
DESCRIPTION:Enjoy a fun\, humorous storytime with a puppet friend who will accompany our storyteller with playful questions and witty commentary. After the story is over\,  enjoy a short\, family-friendly arts activity where you’ll create your own funny finger puppets to take home. Necessary arts supplies (scissors\, paper\, glue\, crayons\, etc.) will be provided by Artly World. \nThis storytelling is suitable for all ages\, and the arts activity is most suitable for ages 5 and up. \n 
URL:https://artlyworld.org/event/finger-puppets-storytime/
LOCATION:Austin Public Library- Terrazas Branch\, 1105 E Cesar Chavez St\, Austin\, TX\, 78702
ATTACH;FMTTYPE=image/webp:https://artlyworld.org/wp-content/uploads/2025/11/Screen-Shot-2020-01-04-at-1.45.03-PM.webp
END:VEVENT
BEGIN:VEVENT
DTSTART;TZID=America/Chicago:20200509T110000
DTEND;TZID=America/Chicago:20200509T170000
DTSTAMP:20260422T001302
CREATED:20200104T192836Z
LAST-MODIFIED:20200104T192936Z
UID:2146-1589022000-1589043600@artlyworld.org
SUMMARY:Austin Arts Fair Spring 2020
DESCRIPTION:A fun\, free\, family-friendly arts and culture event celebrating the artists who contribute so much to the unique and vibrant culture of Austin! Shop local art\, create your own art\, and enjoy live entertainment. \nFREE entry to the event (with registration at this link).\nFREE parking onsite and in nearby lot (1520 Rutherford Lane).\nHandmade\, original art and crafts available for purchase from local artists.\nFREE all-ages arts activities\, demonstrations\, and workshops throughout the day.\nFREE live entertainment by local musicians and performers.\nFood vendors onsite. \nABOUT\nShop unique collections of original\, handmade art and crafts by local artists. Create your own art in fun\, all-ages arts activities and arts and music workshops. Enjoy live entertainment by local musicians and performers. And learn more about the arts and music opportunities that Austin has to offer by speaking with the artists themselves. \nPARTICIPANTS\nAll participants are local artists and performers who have been selected to represent a diverse variety of mediums and styles in Austin’s visual and performing arts scenes. \nThe complete artist lineup will be announced at www.austinartsfair.com. \nSCHEDULE OF EVENTS\nLive performances and arts activities will be scheduled throughout the day. All are welcome to attend. A complete schedule of events will be posted on www.austinartsfair.com. \nMORE INFORMATION & FAQs\nMore information at www.austinartsfair.com
URL:https://artlyworld.org/event/aaf-spring-2020/
LOCATION:AARC\, 8401 Cameron Rd\, Austin\, TX\, 78754\, United States
ATTACH;FMTTYPE=image/webp:https://artlyworld.org/wp-content/uploads/2025/11/smiling-with-artist-vendor-e1584894280579.webp
END:VEVENT
BEGIN:VEVENT
DTSTART;TZID=America/Chicago:20191123T100000
DTEND;TZID=America/Chicago:20191123T160000
DTSTAMP:20260422T001302
CREATED:20190924T114708Z
LAST-MODIFIED:20191105T132828Z
UID:2039-1574503200-1574524800@artlyworld.org
SUMMARY:Austin Arts Fair 2019
DESCRIPTION:A family-friendly arts and culture event celebrating the artists & performers that contribute so much to Austin’s unique culture and distinct character. Shop unique\, original artwork and handmade crafts by local artists. Create your own art in fun\, all ages\, interactive arts activities and workshops. Enjoy live entertainment by local musicians\, dancers\, and performers. \nPARTICIPANTS:\nAll participants are local artists and performers who have been selected to represent a diverse variety of mediums\, heritages\, and styles in Austin’s visual and performing arts scenes. Enjoy shopping original collections of paintings\, prints\, photography\, jewelry and accessories\, glassworks\, and ceramics while being entertained with live performances by local musicians and dancers. Food from local vendors will also be available for purchase. \nA complete list of participants can be found on this page. \nREGISTRATION & ATTENDANCE:\nOpen to the public. Free entry with registration. You can register online through Eventbrite at this link. \nMORE QUESTIONS?\nFind answers to the most commonly asked questions on this page.
URL:https://artlyworld.org/event/austin-arts-fair-2019/
LOCATION:AARC\, 8401 Cameron Rd\, Austin\, TX\, 78754\, United States
ATTACH;FMTTYPE=image/webp:https://artlyworld.org/wp-content/uploads/2025/11/kids-Activities-at-Austin-Arts-Fair-2019.webp
END:VEVENT
BEGIN:VEVENT
DTSTART;TZID=UTC:20191012T103000
DTEND;TZID=UTC:20191012T123000
DTSTAMP:20260422T001302
CREATED:20190812T115311Z
LAST-MODIFIED:20190813T120435Z
UID:1865-1570876200-1570883400@artlyworld.org
SUMMARY:Outdoor Family Fun Drum Together
DESCRIPTION:Join us in the courtyard outside Thinkery for fun\, kid-friendly outdoor music activity the whole family will enjoy! Celebrate the lovely autumn weather by playing drums\, moving to the rhythms from around the world\, and having a great time with family and loved ones. Don’t miss out on this fun and memorable music experience with your family! \nOpen to the public—walk-ins welcome! There will be several 20-minute sessions throughout the duration of the event. Come anytime between 10:30 and 12:30\, ready to have fun with your family! \nNo prior music experience necessary\, and all instruments will be provided by Artly World Nonprofit. Suitable for all ages.
URL:https://artlyworld.org/event/outdoor-family-fun-drum-together/
LOCATION:Thinkery\, 1830 Simond Ave\,\, Austin\, TX\, 78723\, United States
ATTACH;FMTTYPE=image/webp:https://artlyworld.org/wp-content/uploads/2025/11/drumming-1.webp
END:VEVENT
BEGIN:VEVENT
DTSTART;TZID=UTC:20190922T120000
DTEND;TZID=UTC:20190922T160000
DTSTAMP:20260422T001302
CREATED:20190813T030251Z
LAST-MODIFIED:20190813T030759Z
UID:1868-1569153600-1569168000@artlyworld.org
SUMMARY:Family Sound Portraits
DESCRIPTION:Join us in the park to create your family’s unique “sound portrait”! Part of Elisabet Ney Museum’s Portraiture in the Park event. \nWhat is a sound portrait? A unique opportunity to represent you and your family through sound\, using instruments you choose from our collection of drums\, percussion accessories\, and sound effects from around the world. No musical experience necessary. We’ll provide all the instruments and any instructions needed to produce sound. \nFree and open to the public as part of City of Austin’s Museum Day. Bring the family to enjoy a day in the park and to explore the meaning and process of portraiture. \n 
URL:https://artlyworld.org/event/family-sound-portraits/
LOCATION:Elisabet Ney Museum\, 304 E 44th St\, Austin\, TX\, 78751\, United States
ATTACH;FMTTYPE=image/webp:https://artlyworld.org/wp-content/uploads/2025/11/Screen-Shot-2018-10-02-at-6.37.45-AM.webp
END:VEVENT
BEGIN:VEVENT
DTSTART;TZID=UTC:20190729T170000
DTEND;TZID=UTC:20190729T200000
DTSTAMP:20260422T001302
CREATED:20190723T112645Z
LAST-MODIFIED:20190723T113013Z
UID:1855-1564419600-1564430400@artlyworld.org
SUMMARY:Music Around the World at Evening for Educators
DESCRIPTION:Interact with music traditions from around the world while learning more about the arts\, music\, and cultural programs that nonprofit Artly World provides for children and families in Austin. \nEnjoy viewing\, learning about\, and making sounds on instruments representative of different geographic regions and cultural traditions. Meet the Artly World team and learn more about how we use arts and music programming to celebrate cultural heritages and teach children and families about different cultures and traditions. \nThis activity is part of Bullock Museum’s “Evening for Educators\,” a free event exclusively for teachers. Requires RSVP via Bullock Museum’s website: https://www.thestoryoftexas.com/visit/calendar/evening-for-educators-20190729
URL:https://artlyworld.org/event/music-around-the-world/
LOCATION:Bullock Museum\, 1800 Congress Ave\, Austin\, TX\, 78701
ATTACH;FMTTYPE=image/webp:https://artlyworld.org/wp-content/uploads/2025/11/Volunteer-Artly-World-Nonprofit-3-e1563881385616.webp
END:VEVENT
BEGIN:VEVENT
DTSTART;TZID=UTC:20190414T143000
DTEND;TZID=UTC:20190414T150000
DTSTAMP:20260422T001302
CREATED:20190306T170116Z
LAST-MODIFIED:20190326T201831Z
UID:1802-1555252200-1555254000@artlyworld.org
SUMMARY:Kids and Family Drum Together!
DESCRIPTION:Join us for a fun celebration of springtime in Texas that the whole family will love! Bring the kids to explore outdoor sculptures\, enjoy spring-themed handicraft activities\, listen to music\, and participate in our live family-friendly\, hands-on Drum Together activity. \nFree and open to the public. Suitable for all ages. \nThe entire event runs from 12 and 4p\, with our fun Kids and Family Drum Together activity at 2:30p. Don’t miss out on this memorable experience with your family! \nRegister and reserve your family’s spot today!
URL:https://artlyworld.org/event/celebrate-springtime-in-texas/
LOCATION:Umlauf Sculpture Garden and Museum\, 605 Azie Morton Rd\, Austin\, TX\, 78704
ATTACH;FMTTYPE=image/webp:https://artlyworld.org/wp-content/uploads/2025/11/Donate-Artly-World-Nonprofit-5.webp
END:VEVENT
BEGIN:VEVENT
DTSTART;TZID=UTC:20190413T120000
DTEND;TZID=UTC:20190413T170000
DTSTAMP:20260422T001302
CREATED:20190306T171021Z
LAST-MODIFIED:20190326T203136Z
UID:1805-1555156800-1555174800@artlyworld.org
SUMMARY:Celebrate Women in Music
DESCRIPTION:Join us in the park at Elisabet Ney Museum during their Ney Day event to celebrate women in music from around the world. Bring the kids to enjoy outdoor music and hands-on arts and crafts activities anytime between 12 and 5pm. \nDon’t forget to drop by our exhibit to learn about women in world music and women-focused music traditions and touch and feel different music instruments from around the world. \nFree and open to the public. Suitable for all ages. \nLet us know you’re coming!
URL:https://artlyworld.org/event/music-in-the-park/
LOCATION:Elisabet Ney Museum\, 304 E 44th St\, Austin\, TX\, 78751\, United States
ATTACH;FMTTYPE=image/webp:https://artlyworld.org/wp-content/uploads/2025/11/Screen-Shot-2018-10-02-at-6.37.45-AM.webp
END:VEVENT
BEGIN:VEVENT
DTSTART;TZID=UTC:20190409T103000
DTEND;TZID=UTC:20190409T111500
DTSTAMP:20260422T001302
CREATED:20190327T120449Z
LAST-MODIFIED:20190327T120449Z
UID:1819-1554805800-1554808500@artlyworld.org
SUMMARY:Drum Together at Toybrary!
DESCRIPTION:Join us at Toybrary Austin with your little ones for a fun\, interactive music-making activity everyone will enjoy! We’ll enjoy moving to the rhythms\, playing drums\, and making music together! \nSuitable for ages 2 to 5 with parent accompaniment. No experience needed. All instruments will be provided. \n$10 per child\, payable through Eventbrite or at the door. \nBONUS: Activity fee includes entry to stay-and-play at Toybrary! Don’t miss out on this fun and memorable music experience with your precious little ones! \nLimited space! Reserve your spot today. \n  \nYour participation in this event supports our local community!\nWe provide free after-school programs onsite to children in Austin’s underserved communities. Any proceeds or donations we receive from this event will go toward providing free summer camps for these children. Thank you for your donations and support.
URL:https://artlyworld.org/event/drum-together-at-toybrary/
LOCATION:Toybrary Austin\, 2001 Justin Ln\, Austin\, TX\, 78757
ATTACH;FMTTYPE=image/webp:https://artlyworld.org/wp-content/uploads/2025/11/Screen-Shot-2019-01-15-at-12.39.16-PM.webp
END:VEVENT
BEGIN:VEVENT
DTSTART;TZID=UTC:20190406T103000
DTEND;TZID=UTC:20190406T123000
DTSTAMP:20260422T001302
CREATED:20190306T164848Z
LAST-MODIFIED:20190306T171542Z
UID:1798-1554546600-1554553800@artlyworld.org
SUMMARY:Drum Together Family Fun!
DESCRIPTION:Join us at the Thinkery for a fun\, kid-friendly music activity the whole family will enjoy! Celebrate springtime by playing drums\, moving to the rhythms from around the world\, and having a great time with family and loved ones. Don’t miss out on this fun and memorable music experience with your family! \nOpen to the public—walk-ins welcome! There will be several 15-minute sessions throughout the duration of the event. Come anytime between 10:30 and 12:30\, ready to have fun with your family! \nNo prior music experience necessary\, and all instruments will be provided by Artly World Nonprofit. Suitable for all ages. \nRegister and reserve your family’s spot today.
URL:https://artlyworld.org/event/drum-together-family-fun/
LOCATION:Thinkery\, 1830 Simond Ave\,\, Austin\, TX\, 78723\, United States
ATTACH;FMTTYPE=image/webp:https://artlyworld.org/wp-content/uploads/2025/11/thinkery-jan-2019-1-scaled.webp
END:VEVENT
BEGIN:VEVENT
DTSTART;TZID=UTC:20190316T140000
DTEND;TZID=UTC:20190316T160000
DTSTAMP:20260422T001302
CREATED:20190306T163723Z
LAST-MODIFIED:20190306T171642Z
UID:1792-1552744800-1552752000@artlyworld.org
SUMMARY:Celebrate Native American Music & Dance
DESCRIPTION:Join us for a fun\, kid and family-friendly celebration of Native American culture and traditions! Free and open to the public. \nBring the whole family to witness an astounding live performance of Native American powwow drumming and dance. You’ll also be given the opportunity to join in on the fun and learn how to dance some of the powwow styles yourself! \nPresentations will occur in 20-minute sessions between 2 and 4p. Suitable for all ages. No previous music experience needed. \nParking available street side and at the Capital Center Parking Garage at 1201 San Jacinto Blvd. \nRegister and reserve your family’s spot today!
URL:https://artlyworld.org/event/celebrate-native-american-music-dance/
LOCATION:Texas Capital Visitors Center\, 112 E 11th St\, Austin\, TX\, 78701
ATTACH;FMTTYPE=image/webp:https://artlyworld.org/wp-content/uploads/2025/11/Screen-Shot-2018-12-29-at-3.50.35-PM.webp
END:VEVENT
BEGIN:VEVENT
DTSTART;TZID=UTC:20190112T103000
DTEND;TZID=UTC:20190112T120000
DTSTAMP:20260422T001302
CREATED:20190105T011212Z
LAST-MODIFIED:20190105T011440Z
UID:1776-1547289000-1547294400@artlyworld.org
SUMMARY:Free Kids & Family Fun: Drum in the New Year!
DESCRIPTION:  \nJoin us at the Thinkery for a fun\, kid-friendly music activity the whole family will enjoy! Celebrate the new year by playing drums\, moving to the rhythms from around the world\, and having a great time with family and loved ones. Don’t miss out on this fun and memorable music experience with your family! \nOpen to the public—walk-ins welcome! There will be several 15-minute sessions throughout the duration of the event. Come anytime between 10:30 and 12:00\, ready to have fun with your family! \nNo prior music experience necessary\, and all instruments will be provided by Artly World Nonprofit. Program especially designed for children ages 5 to 12 and their families\, but all ages are welcome. \nRSVP for updates: https://artlyworld.org/family-fun/
URL:https://artlyworld.org/event/free-kids-family-fun-drum-in-the-new-year/
LOCATION:Thinkery\, 1830 Simond Ave\,\, Austin\, TX\, 78723\, United States
ATTACH;FMTTYPE=image/webp:https://artlyworld.org/wp-content/uploads/2025/11/Screen-Shot-2018-12-29-at-3.50.35-PM-1.webp
END:VEVENT
BEGIN:VEVENT
DTSTART;TZID=UTC:20181205T170000
DTEND;TZID=UTC:20181205T190000
DTSTAMP:20260422T001302
CREATED:20181126T012055Z
LAST-MODIFIED:20181126T012055Z
UID:1624-1544029200-1544036400@artlyworld.org
SUMMARY:Free Family Fun: Let's Rumba!
DESCRIPTION:Join us at the Thinkery for an exploration of folkloric rumba music from Cuba. Bring the whole family to enjoy playing instruments\, moving to the rhythms\, and learning about Afro-Cuban rumba. Don’t miss out on this fun and memorable music experience with your family! \nFree and open to the public. Instruments provided. No prior music experience necessary. Especially suited for children ages 5 to 12 and their families\, but all ages are welcome. \nWe’ll be giving 20-minute workshops every half hour between 5p and 7p. Register prior to the event here.
URL:https://artlyworld.org/event/free-family-fun-lets-rumba/
LOCATION:Thinkery\, 1830 Simond Ave\,\, Austin\, TX\, 78723\, United States
ATTACH;FMTTYPE=image/webp:https://artlyworld.org/wp-content/uploads/2025/11/drums-2.webp
END:VEVENT
END:VCALENDAR